BEGIN:VCALENDAR
VERSION:2.0
PRODID:-//Northern Alberta FPV League - ECPv6.15.20//NONSGML v1.0//EN
CALSCALE:GREGORIAN
METHOD:PUBLISH
X-ORIGINAL-URL:https://northernalbertafpv.ca
X-WR-CALDESC:Events for Northern Alberta FPV League
REFRESH-INTERVAL;VALUE=DURATION:PT1H
X-Robots-Tag:noindex
X-PUBLISHED-TTL:PT1H
BEGIN:VTIMEZONE
TZID:America/Edmonton
BEGIN:DAYLIGHT
TZOFFSETFROM:-0700
TZOFFSETTO:-0600
TZNAME:MDT
DTSTART:20250309T090000
END:DAYLIGHT
BEGIN:STANDARD
TZOFFSETFROM:-0600
TZOFFSETTO:-0700
TZNAME:MST
DTSTART:20251102T080000
END:STANDARD
BEGIN:DAYLIGHT
TZOFFSETFROM:-0700
TZOFFSETTO:-0600
TZNAME:MDT
DTSTART:20260308T090000
END:DAYLIGHT
BEGIN:STANDARD
TZOFFSETFROM:-0600
TZOFFSETTO:-0700
TZNAME:MST
DTSTART:20261101T080000
END:STANDARD
BEGIN:DAYLIGHT
TZOFFSETFROM:-0700
TZOFFSETTO:-0600
TZNAME:MDT
DTSTART:20270314T090000
END:DAYLIGHT
BEGIN:STANDARD
TZOFFSETFROM:-0600
TZOFFSETTO:-0700
TZNAME:MST
DTSTART:20271107T080000
END:STANDARD
END:VTIMEZONE
BEGIN:VEVENT
DTSTART;TZID=America/Edmonton:20260118T100000
DTEND;TZID=America/Edmonton:20260118T160000
DTSTAMP:20260423T214026
CREATED:20260104T174314Z
LAST-MODIFIED:20260104T174314Z
UID:58165-1768730400-1768752000@northernalbertafpv.ca
SUMMARY:WCFF Whoop Race Jan 18 2026
DESCRIPTION:We’ll be back at the Western Canada Fire & First Aid Warehouse for a whoop race! \nAre you new to FPV (First-Person-View) drones? Not a problem! We can help you get started. Join the Discord at http://bit.ly/YEGFPV if you have questions. \nPlease sign up for the race on MultiGP: https://www.multigp.com/races/view/?race=31145/WCFF-Whoop-Race—Jan-18-2026
URL:https://northernalbertafpv.ca/event/wcff-whoop-race-jan-18-2026/
LOCATION:Western Canadian Fire and First Aid\, 4120 101 Street NW\, Edmonton\, Alberta\, T6E 0A5\, Canada
ORGANIZER;CN="Northern Alberta FPV League":MAILTO:info@northernalbertaFPV.ca
END:VEVENT
END:VCALENDAR