BEGIN:VCALENDAR
VERSION:2.0
PRODID:-//Northern Alberta FPV League - ECPv6.15.20//NONSGML v1.0//EN
CALSCALE:GREGORIAN
METHOD:PUBLISH
X-WR-CALNAME:Northern Alberta FPV League
X-ORIGINAL-URL:https://northernalbertafpv.ca
X-WR-CALDESC:Events for Northern Alberta FPV League
REFRESH-INTERVAL;VALUE=DURATION:PT1H
X-Robots-Tag:noindex
X-PUBLISHED-TTL:PT1H
BEGIN:VTIMEZONE
TZID:America/Edmonton
BEGIN:DAYLIGHT
TZOFFSETFROM:-0700
TZOFFSETTO:-0600
TZNAME:MDT
DTSTART:20250309T090000
END:DAYLIGHT
BEGIN:STANDARD
TZOFFSETFROM:-0600
TZOFFSETTO:-0700
TZNAME:MST
DTSTART:20251102T080000
END:STANDARD
BEGIN:DAYLIGHT
TZOFFSETFROM:-0700
TZOFFSETTO:-0600
TZNAME:MDT
DTSTART:20260308T090000
END:DAYLIGHT
BEGIN:STANDARD
TZOFFSETFROM:-0600
TZOFFSETTO:-0700
TZNAME:MST
DTSTART:20261101T080000
END:STANDARD
BEGIN:DAYLIGHT
TZOFFSETFROM:-0700
TZOFFSETTO:-0600
TZNAME:MDT
DTSTART:20270314T090000
END:DAYLIGHT
BEGIN:STANDARD
TZOFFSETFROM:-0600
TZOFFSETTO:-0700
TZNAME:MST
DTSTART:20271107T080000
END:STANDARD
END:VTIMEZONE
BEGIN:VEVENT
DTSTART;TZID=America/Edmonton:20260426T100000
DTEND;TZID=America/Edmonton:20260426T160000
DTSTAMP:20260420T031145
CREATED:20260224T175801Z
LAST-MODIFIED:20260313T162855Z
UID:58224-1777197600-1777219200@northernalbertafpv.ca
SUMMARY:WCFF Whoop Race April 26 2026 (Igniter-focused)
DESCRIPTION:OVERVIEW \nWe are excited to host our chapter’s next MultiGP drone race in Edmonton\, Alberta! \nAll skill levels — first-timers encouraged — spectators welcome. \nVENUE \nWe will be racing in the Western Canada Fire & First Aid warehouse (4120 101 Street). Park anywhere out front and enter via the warehouse door which is to the left of the main business doors. Google Maps Link: https://maps.app.goo.gl/v6y6Qkh2fZtarko46  \nRACE FORMAT \nAll pilots will get to participate in a practice heat and approximately six qualifying heats in the morning\, followed by races in the afternoon. The race format will ensure pilots are matched with other pilots of similar skill level. \nTRACK \nThe track will be designed and set up on the morning of the race and there will be a walkthrough to explain the race course and answer questions. \nPILOT REQUIREMENTS \nAs we are a MAAC (Model Aeronautics Association of Canada) club and our insurance comes from MAAC\, all pilots need a MAAC membership. You can sign up for MAAC at the event. If cost is an issue\, let us know and we can help. \nhttps://maac.ca/membership/join \nDRONE REQUIREMENTS \nThis will be a UDL IGNITER CLASS race (https://undergrounddroneleague.com/igniter-legal-parts) for experienced pilots only. For new pilots\, drones must be fully-ducted and powered by single-cell (1S) batteries with a maximum total charge of 4.35v. Video transmitters must be set to 25mw using either Analog or HDZero on Raceband channels 1 through 8. DJI and Walksnail drones are permitted but will fly in separate heats to prevent conflicts with other video systems. \nENTRY FEE \nFor this event\, the race fee will be a $10 donation toward either the Veteran’s Association Food Bank or toward the Lazerte high school athletic programs. Links to donate are below\, and cash works too: \nFood bank: https://buy.stripe.com/dR616eeFw8iA1Ne145\nSchool athletics: https://buy.stripe.com/7sIcOW9lc6asdvW9AC \nSCHEDULE \nFirst hour: Setup / check in / Track walkthrough\nMorning: Practice and qualifying heats\nAfternoon: Racing!\nLast 30 minutes: Teardown / clean up \nNEW PILOTS \nWhether you’ve raced before or you’re new to FPV and this is your first-ever race\, you’re welcome here. Our #1 goal is for every pilot to have fun\, meet other pilots\, and enjoy the experience. \nPlease arrive early so we can help you get set up and answer questions. \nChecklist of things to bring\, if you have them (and if not\, we have loaners!): \n– FPV goggles\n– Radio controller\n– Drone\n– Batteries\n– Battery charger (AC power is available but limited; extension cords and power bars/power banks are helpful) \nSPECTATORS \nSpectators are welcome in designated safe viewing areas. \nUPDATES / QUESTIONS \nAny event updates and discussions happen in our club Discord in the Lets-go-flying channel. You can join the Discord at https://bit.ly/YEGFPV \nCONTACT \nQuestions? Reach out on the Help channel in our Discord (see above) or contact George at info@northernalbertaFPV.ca \n 
URL:https://northernalbertafpv.ca/event/wcff-whoop-race-april-26-2026/
LOCATION:Western Canadian Fire and First Aid\, 4120 101 Street NW\, Edmonton\, Alberta\, T6E 0A5\, Canada
ORGANIZER;CN="Northern Alberta FPV League":MAILTO:info@northernalbertaFPV.ca
END:VEVENT
END:VCALENDAR