BEGIN:VCALENDAR
VERSION:2.0
PRODID:-//Northern Alberta FPV League - ECPv6.15.20//NONSGML v1.0//EN
CALSCALE:GREGORIAN
METHOD:PUBLISH
X-WR-CALNAME:Northern Alberta FPV League
X-ORIGINAL-URL:https://northernalbertafpv.ca
X-WR-CALDESC:Events for Northern Alberta FPV League
REFRESH-INTERVAL;VALUE=DURATION:PT1H
X-Robots-Tag:noindex
X-PUBLISHED-TTL:PT1H
BEGIN:VTIMEZONE
TZID:America/Denver
BEGIN:DAYLIGHT
TZOFFSETFROM:-0700
TZOFFSETTO:-0600
TZNAME:MDT
DTSTART:20240310T090000
END:DAYLIGHT
BEGIN:STANDARD
TZOFFSETFROM:-0600
TZOFFSETTO:-0700
TZNAME:MST
DTSTART:20241103T080000
END:STANDARD
BEGIN:DAYLIGHT
TZOFFSETFROM:-0700
TZOFFSETTO:-0600
TZNAME:MDT
DTSTART:20250309T090000
END:DAYLIGHT
BEGIN:STANDARD
TZOFFSETFROM:-0600
TZOFFSETTO:-0700
TZNAME:MST
DTSTART:20251102T080000
END:STANDARD
BEGIN:DAYLIGHT
TZOFFSETFROM:-0700
TZOFFSETTO:-0600
TZNAME:MDT
DTSTART:20260308T090000
END:DAYLIGHT
BEGIN:STANDARD
TZOFFSETFROM:-0600
TZOFFSETTO:-0700
TZNAME:MST
DTSTART:20261101T080000
END:STANDARD
END:VTIMEZONE
BEGIN:VEVENT
DTSTART;TZID=America/Denver:20250216T100000
DTEND;TZID=America/Denver:20250216T153000
DTSTAMP:20260423T115109
CREATED:20250215T022332Z
LAST-MODIFIED:20250215T031944Z
UID:57860-1739700000-1739719800@northernalbertafpv.ca
SUMMARY:VAFB Whoop Race
DESCRIPTION:Come join us for a whoop race with the tiny whoops at the Veteran’s Food Bank in Edmonton.
URL:https://northernalbertafpv.ca/event/vafb-whoop-race/
LOCATION:VAFB Veteran’s Food Bank\, 18508-111 Ave NW\, Edmonton\, Alberta\, T5S 2V4\, Canada
ATTACH;FMTTYPE=image/jpeg:https://northernalbertafpv.ca/wp-content/uploads/2025/01/20240728_102541-scaled.jpg
END:VEVENT
END:VCALENDAR