BEGIN:VCALENDAR
VERSION:2.0
PRODID:-//Northern Alberta FPV League - ECPv6.15.20//NONSGML v1.0//EN
CALSCALE:GREGORIAN
METHOD:PUBLISH
X-ORIGINAL-URL:https://northernalbertafpv.ca
X-WR-CALDESC:Events for Northern Alberta FPV League
REFRESH-INTERVAL;VALUE=DURATION:PT1H
X-Robots-Tag:noindex
X-PUBLISHED-TTL:PT1H
BEGIN:VTIMEZONE
TZID:America/Edmonton
BEGIN:DAYLIGHT
TZOFFSETFROM:-0700
TZOFFSETTO:-0600
TZNAME:MDT
DTSTART:20250309T090000
END:DAYLIGHT
BEGIN:STANDARD
TZOFFSETFROM:-0600
TZOFFSETTO:-0700
TZNAME:MST
DTSTART:20251102T080000
END:STANDARD
BEGIN:DAYLIGHT
TZOFFSETFROM:-0700
TZOFFSETTO:-0600
TZNAME:MDT
DTSTART:20260308T090000
END:DAYLIGHT
BEGIN:STANDARD
TZOFFSETFROM:-0600
TZOFFSETTO:-0700
TZNAME:MST
DTSTART:20261101T080000
END:STANDARD
BEGIN:DAYLIGHT
TZOFFSETFROM:-0700
TZOFFSETTO:-0600
TZNAME:MDT
DTSTART:20270314T090000
END:DAYLIGHT
BEGIN:STANDARD
TZOFFSETFROM:-0600
TZOFFSETTO:-0700
TZNAME:MST
DTSTART:20271107T080000
END:STANDARD
END:VTIMEZONE
BEGIN:VEVENT
DTSTART;TZID=America/Edmonton:20260208T090000
DTEND;TZID=America/Edmonton:20260208T150000
DTSTAMP:20260422T230822
CREATED:20251201T202920Z
LAST-MODIFIED:20251201T202920Z
UID:58121-1770541200-1770562800@northernalbertafpv.ca
SUMMARY:Feb 8 2026 Lazerte Whoop Race
DESCRIPTION:We’re back at M.E. Lazerte (6804 144ave) for another race in the school’s atrium! Please park in the staff parking lot (behind the building). Once you enter through the staff entrance\, turn left and go down the hall to find the atrium. Please sign up on MultiGP and make sure you’ve joined the Discord (https://bit.ly/YEGFPV) so that you can receive your channel assignment. We also ask that you donate $10 toward the school’s athletic programs as your race entry fee. \nMultiGP Sign up: : https://www.multigp.com/chapters/view/?chapter=Northern-Alberta-FPV-League \nDonation ($10 per race): https://buy.stripe.com/7sIcOW9lc6asdvW9AC \nAs an alternative\, you can donate to the EPSB Foundation directly and receive a tax receipt for donations of at least $25: https://foundation.epsb.ca/giving/school-donations/ (Enter “Lazerte athletic programs” in the purpose of the donation\, and add a note that you’re with the FPV League).
URL:https://northernalbertafpv.ca/event/feb-8-2026-lazerte-whoop-race/
LOCATION:M.E. Lazerte High School\, 6804 144 Ave NW\, Edmonton\, Alberta\, T5C 3C7\, Canada
ORGANIZER;CN="Northern Alberta FPV League":MAILTO:info@northernalbertaFPV.ca
END:VEVENT
BEGIN:VEVENT
DTSTART;TZID=America/Edmonton:20260215T100000
DTEND;TZID=America/Edmonton:20260215T160000
DTSTAMP:20260422T230822
CREATED:20260104T174515Z
LAST-MODIFIED:20260104T174515Z
UID:58169-1771149600-1771171200@northernalbertafpv.ca
SUMMARY:WCFF Whoop Race Feb 15 2026
DESCRIPTION:Western Canada Fire and First Aid has once again welcomed us to their warehouse for a whoop race! \nAre you new to FPV (First-Person-View) drones? Not a problem! We can help you get started. Join the Discord at http://bit.ly/YEGFPV if you have questions. \nPlease sign up for the race on MultiGP: https://www.multigp.com/races/view/?race=31146/WCFF-Whoop-Race—Feb-15-2026
URL:https://northernalbertafpv.ca/event/wcff-whoop-race-feb-15-2026/
LOCATION:Western Canadian Fire and First Aid\, 4120 101 Street NW\, Edmonton\, Alberta\, T6E 0A5\, Canada
ORGANIZER;CN="Northern Alberta FPV League":MAILTO:info@northernalbertaFPV.ca
END:VEVENT
BEGIN:VEVENT
DTSTART;TZID=America/Edmonton:20260222T090000
DTEND;TZID=America/Edmonton:20260222T150000
DTSTAMP:20260422T230822
CREATED:20251201T202957Z
LAST-MODIFIED:20251201T202957Z
UID:58125-1771750800-1771772400@northernalbertafpv.ca
SUMMARY:Feb 22 2026 Lazerte Whoop Race
DESCRIPTION:We’re back at M.E. Lazerte (6804 144ave) for another race in the school’s atrium! Please park in the staff parking lot (behind the building). Once you enter through the staff entrance\, turn left and go down the hall to find the atrium. Please sign up on MultiGP and make sure you’ve joined the Discord (https://bit.ly/YEGFPV) so that you can receive your channel assignment. We also ask that you donate $10 toward the school’s athletic programs as your race entry fee. \nMultiGP Sign up: : https://www.multigp.com/chapters/view/?chapter=Northern-Alberta-FPV-League \nDonation ($10 per race): https://buy.stripe.com/7sIcOW9lc6asdvW9AC \nAs an alternative\, you can donate to the EPSB Foundation directly and receive a tax receipt for donations of at least $25: https://foundation.epsb.ca/giving/school-donations/ (Enter “Lazerte athletic programs” in the purpose of the donation\, and add a note that you’re with the FPV League).
URL:https://northernalbertafpv.ca/event/feb-22-2026-lazerte-whoop-race/
LOCATION:M.E. Lazerte High School\, 6804 144 Ave NW\, Edmonton\, Alberta\, T5C 3C7\, Canada
ORGANIZER;CN="Northern Alberta FPV League":MAILTO:info@northernalbertaFPV.ca
END:VEVENT
END:VCALENDAR